BEGIN:VCALENDAR
VERSION:2.0
PRODID:spatie/icalendar-generator
NAME:Surgent's Recent Changes in Workplace Regulations: Overtime\, Non-comp
 ete Agreements\, and Employee/Independent Contractor
X-WR-CALNAME:Surgent's Recent Changes in Workplace Regulations: Overtime\, 
 Non-compete Agreements\, and Employee/Independent Contractor
BEGIN:VTIMEZONE
TZID:America/Chicago
BEGIN:STANDARD
DTSTART:20261101T010000
TZOFFSETFROM:-0500
TZOFFSETTO:-0600
END:STANDARD
BEGIN:DAYLIGHT
DTSTART:20270314T010000
TZOFFSETFROM:-0600
TZOFFSETTO:-0500
END:DAYLIGHT
END:VTIMEZONE
BEGIN:VTIMEZONE
TZID:UTC
BEGIN:STANDARD
DTSTART:20250726T185450
TZOFFSETFROM:+0000
TZOFFSETTO:+0000
END:STANDARD
END:VTIMEZONE
BEGIN:VEVENT
UID:69e9197aa8402
DTSTAMP:20260422T185450Z
SUMMARY:Surgent's Recent Changes in Workplace Regulations: Overtime\, Non-c
 ompete Agreements\, and Employee/Independent Contractor
URL:https://alabama.cpa/catalog/events/7717519-surgents-recent-changes-in-w
 orkplace-regulations-overtime-non-compete-agreements-and-employeeindepende
 nt-contractor-2027-27-04
DTSTART;TZID=America/Chicago:20270427T130000
DTEND;TZID=America/Chicago:20270427T150000
END:VEVENT
END:VCALENDAR