BEGIN:VCALENDAR
VERSION:2.0
PRODID:spatie/icalendar-generator
NAME:Surgent's A Guide to Gig Economy Tax Issues
X-WR-CALNAME:Surgent's A Guide to Gig Economy Tax Issues
BEGIN:VTIMEZONE
TZID:America/Chicago
BEGIN:STANDARD
DTSTART:20261101T010000
TZOFFSETFROM:-0500
TZOFFSETTO:-0600
END:STANDARD
BEGIN:DAYLIGHT
DTSTART:20270314T010000
TZOFFSETFROM:-0600
TZOFFSETTO:-0500
END:DAYLIGHT
END:VTIMEZONE
BEGIN:VTIMEZONE
TZID:UTC
BEGIN:STANDARD
DTSTART:20250726T185229
TZOFFSETFROM:+0000
TZOFFSETTO:+0000
END:STANDARD
END:VTIMEZONE
BEGIN:VEVENT
UID:69e918ed1c847
DTSTAMP:20260422T185229Z
SUMMARY:Surgent's A Guide to Gig Economy Tax Issues
URL:https://alabama.cpa/catalog/events/7717565-surgents-a-guide-to-gig-econ
 omy-tax-issues-2027-28-04
DTSTART;TZID=America/Chicago:20270428T120000
DTEND;TZID=America/Chicago:20270428T140000
END:VEVENT
END:VCALENDAR