BEGIN:VCALENDAR
VERSION:2.0
PRODID:spatie/icalendar-generator
NAME:Surgent's Unique Tax Attributes of Different Entity Types
X-WR-CALNAME:Surgent's Unique Tax Attributes of Different Entity Types
BEGIN:VTIMEZONE
TZID:America/Chicago
BEGIN:STANDARD
DTSTART:20261101T010000
TZOFFSETFROM:-0500
TZOFFSETTO:-0600
END:STANDARD
BEGIN:DAYLIGHT
DTSTART:20270314T010000
TZOFFSETFROM:-0600
TZOFFSETTO:-0500
END:DAYLIGHT
END:VTIMEZONE
BEGIN:VTIMEZONE
TZID:UTC
BEGIN:STANDARD
DTSTART:20250726T185244
TZOFFSETFROM:+0000
TZOFFSETTO:+0000
END:STANDARD
END:VTIMEZONE
BEGIN:VEVENT
UID:69e918fc55bb9
DTSTAMP:20260422T185244Z
SUMMARY:Surgent's Unique Tax Attributes of Different Entity Types
URL:https://alabama.cpa/catalog/events/7717592-surgents-unique-tax-attribut
 es-of-different-entity-types-2027-29-04
DTSTART;TZID=America/Chicago:20270429T130000
DTEND;TZID=America/Chicago:20270429T150000
END:VEVENT
END:VCALENDAR