BEGIN:VCALENDAR
VERSION:2.0
PRODID:spatie/icalendar-generator
NAME:Surgent's Unconscious Bias in the Workplace
X-WR-CALNAME:Surgent's Unconscious Bias in the Workplace
BEGIN:VTIMEZONE
TZID:America/Chicago
BEGIN:STANDARD
DTSTART:20261101T010000
TZOFFSETFROM:-0500
TZOFFSETTO:-0600
END:STANDARD
BEGIN:DAYLIGHT
DTSTART:20270314T010000
TZOFFSETFROM:-0600
TZOFFSETTO:-0500
END:DAYLIGHT
END:VTIMEZONE
BEGIN:VTIMEZONE
TZID:UTC
BEGIN:STANDARD
DTSTART:20250726T185628
TZOFFSETFROM:+0000
TZOFFSETTO:+0000
END:STANDARD
END:VTIMEZONE
BEGIN:VEVENT
UID:69e919dc74924
DTSTAMP:20260422T185628Z
SUMMARY:Surgent's Unconscious Bias in the Workplace
URL:https://alabama.cpa/catalog/events/7717601-surgents-unconscious-bias-in
 -the-workplace-2027-29-04
DTSTART;TZID=America/Chicago:20270429T140000
DTEND;TZID=America/Chicago:20270429T160000
END:VEVENT
END:VCALENDAR