BEGIN:VCALENDAR
VERSION:2.0
PRODID:spatie/icalendar-generator
NAME:Surgent's Form 1040 Return Review Boot Camp for New and Experienced Re
 viewers
X-WR-CALNAME:Surgent's Form 1040 Return Review Boot Camp for New and Experi
 enced Reviewers
BEGIN:VTIMEZONE
TZID:America/Chicago
BEGIN:STANDARD
DTSTART:20261101T010000
TZOFFSETFROM:-0500
TZOFFSETTO:-0600
END:STANDARD
BEGIN:DAYLIGHT
DTSTART:20270314T010000
TZOFFSETFROM:-0600
TZOFFSETTO:-0500
END:DAYLIGHT
END:VTIMEZONE
BEGIN:VTIMEZONE
TZID:UTC
BEGIN:STANDARD
DTSTART:20250726T185741
TZOFFSETFROM:+0000
TZOFFSETTO:+0000
END:STANDARD
END:VTIMEZONE
BEGIN:VEVENT
UID:69e91a25c1ecb
DTSTAMP:20260422T185741Z
SUMMARY:Surgent's Form 1040 Return Review Boot Camp for New and Experienced
  Reviewers
URL:https://alabama.cpa/catalog/events/7719755-surgents-form-1040-return-re
 view-boot-camp-for-new-and-experienced-reviewers-2027-13-01
DTSTART;TZID=America/Chicago:20270113T090000
DTEND;TZID=America/Chicago:20270113T170000
END:VEVENT
END:VCALENDAR