BEGIN:VCALENDAR
VERSION:2.0
PRODID:spatie/icalendar-generator
NAME:Surgent's Home Office Rules
X-WR-CALNAME:Surgent's Home Office Rules
BEGIN:VTIMEZONE
TZID:America/Chicago
BEGIN:STANDARD
DTSTART:20261101T010000
TZOFFSETFROM:-0500
TZOFFSETTO:-0600
END:STANDARD
BEGIN:DAYLIGHT
DTSTART:20270314T010000
TZOFFSETFROM:-0600
TZOFFSETTO:-0500
END:DAYLIGHT
END:VTIMEZONE
BEGIN:VTIMEZONE
TZID:UTC
BEGIN:STANDARD
DTSTART:20250726T185244
TZOFFSETFROM:+0000
TZOFFSETTO:+0000
END:STANDARD
END:VTIMEZONE
BEGIN:VEVENT
UID:69e918fcdbb8c
DTSTAMP:20260422T185244Z
SUMMARY:Surgent's Home Office Rules
URL:https://alabama.cpa/catalog/events/7719813-surgents-home-office-rules-2
 027-13-01
DTSTART;TZID=America/Chicago:20270113T120000
DTEND;TZID=America/Chicago:20270113T140000
END:VEVENT
END:VCALENDAR