BEGIN:VCALENDAR
VERSION:2.0
PRODID:spatie/icalendar-generator
NAME:Surgent's Social Security: Dispelling Common Myths with Essential Trut
 hs
X-WR-CALNAME:Surgent's Social Security: Dispelling Common Myths with Essent
 ial Truths
BEGIN:VTIMEZONE
TZID:America/Chicago
BEGIN:DAYLIGHT
DTSTART:20260308T010000
TZOFFSETFROM:-0600
TZOFFSETTO:-0500
END:DAYLIGHT
BEGIN:STANDARD
DTSTART:20261101T010000
TZOFFSETFROM:-0500
TZOFFSETTO:-0600
END:STANDARD
BEGIN:DAYLIGHT
DTSTART:20270314T010000
TZOFFSETFROM:-0600
TZOFFSETTO:-0500
END:DAYLIGHT
END:VTIMEZONE
BEGIN:VTIMEZONE
TZID:UTC
BEGIN:STANDARD
DTSTART:20250726T185113
TZOFFSETFROM:+0000
TZOFFSETTO:+0000
END:STANDARD
END:VTIMEZONE
BEGIN:VEVENT
UID:69e918a1230f7
DTSTAMP:20260422T185113Z
SUMMARY:Surgent's Social Security: Dispelling Common Myths with Essential T
 ruths
URL:https://alabama.cpa/catalog/events/7719864-surgents-social-security-dis
 pelling-common-myths-with-essential-truths-2026-03-11
DTSTART;TZID=America/Chicago:20261103T130000
DTEND;TZID=America/Chicago:20261103T150000
END:VEVENT
END:VCALENDAR