BEGIN:VCALENDAR
VERSION:2.0
PRODID:spatie/icalendar-generator
NAME:Surgent's Mastering Accounting for Income Taxes
X-WR-CALNAME:Surgent's Mastering Accounting for Income Taxes
BEGIN:VTIMEZONE
TZID:America/Chicago
BEGIN:STANDARD
DTSTART:20261101T010000
TZOFFSETFROM:-0500
TZOFFSETTO:-0600
END:STANDARD
BEGIN:DAYLIGHT
DTSTART:20270314T010000
TZOFFSETFROM:-0600
TZOFFSETTO:-0500
END:DAYLIGHT
END:VTIMEZONE
BEGIN:VTIMEZONE
TZID:UTC
BEGIN:STANDARD
DTSTART:20250726T185755
TZOFFSETFROM:+0000
TZOFFSETTO:+0000
END:STANDARD
END:VTIMEZONE
BEGIN:VEVENT
UID:69e91a3343148
DTSTAMP:20260422T185755Z
SUMMARY:Surgent's Mastering Accounting for Income Taxes
URL:https://alabama.cpa/catalog/events/7719889-surgents-mastering-accountin
 g-for-income-taxes-2027-14-01
DTSTART;TZID=America/Chicago:20270114T120000
DTEND;TZID=America/Chicago:20270114T160000
END:VEVENT
END:VCALENDAR