BEGIN:VCALENDAR
VERSION:2.0
PRODID:spatie/icalendar-generator
NAME:Surgent's Technical Business Practice Issues and Tax Forms for Experie
 nced Practitioners
X-WR-CALNAME:Surgent's Technical Business Practice Issues and Tax Forms for
  Experienced Practitioners
BEGIN:VTIMEZONE
TZID:America/Chicago
BEGIN:DAYLIGHT
DTSTART:20260308T010000
TZOFFSETFROM:-0600
TZOFFSETTO:-0500
END:DAYLIGHT
BEGIN:STANDARD
DTSTART:20261101T010000
TZOFFSETFROM:-0500
TZOFFSETTO:-0600
END:STANDARD
BEGIN:DAYLIGHT
DTSTART:20270314T010000
TZOFFSETFROM:-0600
TZOFFSETTO:-0500
END:DAYLIGHT
END:VTIMEZONE
BEGIN:VTIMEZONE
TZID:UTC
BEGIN:STANDARD
DTSTART:20250726T185643
TZOFFSETFROM:+0000
TZOFFSETTO:+0000
END:STANDARD
END:VTIMEZONE
BEGIN:VEVENT
UID:69e919eb0a4c3
DTSTAMP:20260422T185643Z
SUMMARY:Surgent's Technical Business Practice Issues and Tax Forms for Expe
 rienced Practitioners
URL:https://alabama.cpa/catalog/events/7719919-surgents-technical-business-
 practice-issues-and-tax-forms-for-experienced-practitioners-2026-04-11
DTSTART;TZID=America/Chicago:20261104T080000
DTEND;TZID=America/Chicago:20261104T160000
END:VEVENT
END:VCALENDAR