BEGIN:VCALENDAR
VERSION:2.0
PRODID:spatie/icalendar-generator
NAME:Surgent's Government and Nonprofit Frauds and Controls to Stop Them
X-WR-CALNAME:Surgent's Government and Nonprofit Frauds and Controls to Stop
  Them
BEGIN:VTIMEZONE
TZID:America/Chicago
BEGIN:STANDARD
DTSTART:20261101T010000
TZOFFSETFROM:-0500
TZOFFSETTO:-0600
END:STANDARD
BEGIN:DAYLIGHT
DTSTART:20270314T010000
TZOFFSETFROM:-0600
TZOFFSETTO:-0500
END:DAYLIGHT
END:VTIMEZONE
BEGIN:VTIMEZONE
TZID:UTC
BEGIN:STANDARD
DTSTART:20250726T185603
TZOFFSETFROM:+0000
TZOFFSETTO:+0000
END:STANDARD
END:VTIMEZONE
BEGIN:VEVENT
UID:69e919c3355aa
DTSTAMP:20260422T185603Z
SUMMARY:Surgent's Government and Nonprofit Frauds and Controls to Stop Them
URL:https://alabama.cpa/catalog/events/7719950-surgents-government-and-nonp
 rofit-frauds-and-controls-to-stop-them-2027-14-01
DTSTART;TZID=America/Chicago:20270114T080000
DTEND;TZID=America/Chicago:20270114T120000
END:VEVENT
END:VCALENDAR