BEGIN:VCALENDAR
VERSION:2.0
PRODID:spatie/icalendar-generator
NAME:Surgent's Buying and Selling a Business: Tax and Structuring Overview
X-WR-CALNAME:Surgent's Buying and Selling a Business: Tax and Structuring O
 verview
BEGIN:VTIMEZONE
TZID:America/Chicago
BEGIN:DAYLIGHT
DTSTART:20260308T010000
TZOFFSETFROM:-0600
TZOFFSETTO:-0500
END:DAYLIGHT
BEGIN:STANDARD
DTSTART:20261101T010000
TZOFFSETFROM:-0500
TZOFFSETTO:-0600
END:STANDARD
END:VTIMEZONE
BEGIN:VTIMEZONE
TZID:UTC
BEGIN:STANDARD
DTSTART:20250726T185235
TZOFFSETFROM:+0000
TZOFFSETTO:+0000
END:STANDARD
END:VTIMEZONE
BEGIN:VEVENT
UID:69e918f35ef65
DTSTAMP:20260422T185235Z
SUMMARY:Surgent's Buying and Selling a Business: Tax and Structuring Overvi
 ew
URL:https://alabama.cpa/catalog/events/7719952-surgents-buying-and-selling-
 a-business-tax-and-structuring-overview-2026-07-08
DTSTART;TZID=America/Chicago:20260807T080000
DTEND;TZID=America/Chicago:20260807T120000
END:VEVENT
END:VCALENDAR