BEGIN:VCALENDAR
VERSION:2.0
PRODID:spatie/icalendar-generator
NAME:Surgent's Guide and Update to Compilations\, Reviews\, and Preparation
 s
X-WR-CALNAME:Surgent's Guide and Update to Compilations\, Reviews\, and Pre
 parations
BEGIN:VTIMEZONE
TZID:America/Chicago
BEGIN:DAYLIGHT
DTSTART:20260308T010000
TZOFFSETFROM:-0600
TZOFFSETTO:-0500
END:DAYLIGHT
BEGIN:STANDARD
DTSTART:20261101T010000
TZOFFSETFROM:-0500
TZOFFSETTO:-0600
END:STANDARD
BEGIN:DAYLIGHT
DTSTART:20270314T010000
TZOFFSETFROM:-0600
TZOFFSETTO:-0500
END:DAYLIGHT
END:VTIMEZONE
BEGIN:VTIMEZONE
TZID:UTC
BEGIN:STANDARD
DTSTART:20250726T185228
TZOFFSETFROM:+0000
TZOFFSETTO:+0000
END:STANDARD
END:VTIMEZONE
BEGIN:VEVENT
UID:69e918eca13be
DTSTAMP:20260422T185228Z
SUMMARY:Surgent's Guide and Update to Compilations\, Reviews\, and Preparat
 ions
URL:https://alabama.cpa/catalog/events/7719955-surgents-guide-and-update-to
 -compilations-reviews-and-preparations-2026-04-11
DTSTART;TZID=America/Chicago:20261104T120000
DTEND;TZID=America/Chicago:20261104T160000
END:VEVENT
END:VCALENDAR