BEGIN:VCALENDAR
VERSION:2.0
PRODID:spatie/icalendar-generator
NAME:Surgent's Preparing Individual Tax Returns for New Staff and Paraprofe
 ssionals
X-WR-CALNAME:Surgent's Preparing Individual Tax Returns for New Staff and P
 araprofessionals
BEGIN:VTIMEZONE
TZID:America/Chicago
BEGIN:STANDARD
DTSTART:20261101T010000
TZOFFSETFROM:-0500
TZOFFSETTO:-0600
END:STANDARD
BEGIN:DAYLIGHT
DTSTART:20270314T010000
TZOFFSETFROM:-0600
TZOFFSETTO:-0500
END:DAYLIGHT
END:VTIMEZONE
BEGIN:VTIMEZONE
TZID:UTC
BEGIN:STANDARD
DTSTART:20250726T185245
TZOFFSETFROM:+0000
TZOFFSETTO:+0000
END:STANDARD
END:VTIMEZONE
BEGIN:VEVENT
UID:69e918fd9932c
DTSTAMP:20260422T185245Z
SUMMARY:Surgent's Preparing Individual Tax Returns for New Staff and Parapr
 ofessionals
URL:https://alabama.cpa/catalog/events/7719957-surgents-preparing-individua
 l-tax-returns-for-new-staff-and-paraprofessionals-2027-14-01
DTSTART;TZID=America/Chicago:20270114T090000
DTEND;TZID=America/Chicago:20270114T170000
END:VEVENT
END:VCALENDAR