BEGIN:VCALENDAR
VERSION:2.0
PRODID:spatie/icalendar-generator
NAME:Surgent's How to Effectively Represent Clients Under IRS Audit
X-WR-CALNAME:Surgent's How to Effectively Represent Clients Under IRS Audit
BEGIN:VTIMEZONE
TZID:America/Chicago
BEGIN:STANDARD
DTSTART:20261101T010000
TZOFFSETFROM:-0500
TZOFFSETTO:-0600
END:STANDARD
BEGIN:DAYLIGHT
DTSTART:20270314T010000
TZOFFSETFROM:-0600
TZOFFSETTO:-0500
END:DAYLIGHT
END:VTIMEZONE
BEGIN:VTIMEZONE
TZID:UTC
BEGIN:STANDARD
DTSTART:20250726T185234
TZOFFSETFROM:+0000
TZOFFSETTO:+0000
END:STANDARD
END:VTIMEZONE
BEGIN:VEVENT
UID:69e918f25e243
DTSTAMP:20260422T185234Z
SUMMARY:Surgent's How to Effectively Represent Clients Under IRS Audit
URL:https://alabama.cpa/catalog/events/7719960-surgents-how-to-effectively-
 represent-clients-under-irs-audit-2027-14-01
DTSTART;TZID=America/Chicago:20270114T090000
DTEND;TZID=America/Chicago:20270114T110000
END:VEVENT
END:VCALENDAR