BEGIN:VCALENDAR
VERSION:2.0
PRODID:spatie/icalendar-generator
NAME:Surgent's Information Security and Privacy
X-WR-CALNAME:Surgent's Information Security and Privacy
BEGIN:VTIMEZONE
TZID:America/Chicago
BEGIN:DAYLIGHT
DTSTART:20260308T010000
TZOFFSETFROM:-0600
TZOFFSETTO:-0500
END:DAYLIGHT
BEGIN:STANDARD
DTSTART:20261101T010000
TZOFFSETFROM:-0500
TZOFFSETTO:-0600
END:STANDARD
END:VTIMEZONE
BEGIN:VTIMEZONE
TZID:UTC
BEGIN:STANDARD
DTSTART:20250726T185842
TZOFFSETFROM:+0000
TZOFFSETTO:+0000
END:STANDARD
END:VTIMEZONE
BEGIN:VEVENT
UID:69e91a6282bb5
DTSTAMP:20260422T185842Z
SUMMARY:Surgent's Information Security and Privacy
URL:https://alabama.cpa/catalog/events/7719963-surgents-information-securit
 y-and-privacy-2026-07-08
DTSTART;TZID=America/Chicago:20260807T130000
DTEND;TZID=America/Chicago:20260807T150000
END:VEVENT
END:VCALENDAR