BEGIN:VCALENDAR
VERSION:2.0
PRODID:spatie/icalendar-generator
NAME:Surgent's Basics of Employment Law for Non-HR Professionals
X-WR-CALNAME:Surgent's Basics of Employment Law for Non-HR Professionals
BEGIN:VTIMEZONE
TZID:America/Chicago
BEGIN:DAYLIGHT
DTSTART:20260308T010000
TZOFFSETFROM:-0600
TZOFFSETTO:-0500
END:DAYLIGHT
BEGIN:STANDARD
DTSTART:20261101T010000
TZOFFSETFROM:-0500
TZOFFSETTO:-0600
END:STANDARD
BEGIN:DAYLIGHT
DTSTART:20270314T010000
TZOFFSETFROM:-0600
TZOFFSETTO:-0500
END:DAYLIGHT
END:VTIMEZONE
BEGIN:VTIMEZONE
TZID:UTC
BEGIN:STANDARD
DTSTART:20250726T185627
TZOFFSETFROM:+0000
TZOFFSETTO:+0000
END:STANDARD
END:VTIMEZONE
BEGIN:VEVENT
UID:69e919db73d67
DTSTAMP:20260422T185627Z
SUMMARY:Surgent's Basics of Employment Law for Non-HR Professionals
URL:https://alabama.cpa/catalog/events/7719971-surgents-basics-of-employmen
 t-law-for-non-hr-professionals-2026-04-11
DTSTART;TZID=America/Chicago:20261104T123000
DTEND;TZID=America/Chicago:20261104T163000
END:VEVENT
END:VCALENDAR