BEGIN:VCALENDAR
VERSION:2.0
PRODID:spatie/icalendar-generator
NAME:Surgent's Preparing Not-for-Profit Financial Statements
X-WR-CALNAME:Surgent's Preparing Not-for-Profit Financial Statements
BEGIN:VTIMEZONE
TZID:America/Chicago
BEGIN:DAYLIGHT
DTSTART:20260308T010000
TZOFFSETFROM:-0600
TZOFFSETTO:-0500
END:DAYLIGHT
BEGIN:STANDARD
DTSTART:20261101T010000
TZOFFSETFROM:-0500
TZOFFSETTO:-0600
END:STANDARD
BEGIN:DAYLIGHT
DTSTART:20270314T010000
TZOFFSETFROM:-0600
TZOFFSETTO:-0500
END:DAYLIGHT
END:VTIMEZONE
BEGIN:VTIMEZONE
TZID:UTC
BEGIN:STANDARD
DTSTART:20250726T185813
TZOFFSETFROM:+0000
TZOFFSETTO:+0000
END:STANDARD
END:VTIMEZONE
BEGIN:VEVENT
UID:69e91a45a1c99
DTSTAMP:20260422T185813Z
SUMMARY:Surgent's Preparing Not-for-Profit Financial Statements
URL:https://alabama.cpa/catalog/events/7719980-surgents-preparing-not-for-p
 rofit-financial-statements-2026-04-11
DTSTART;TZID=America/Chicago:20261104T080000
DTEND;TZID=America/Chicago:20261104T160000
END:VEVENT
END:VCALENDAR