BEGIN:VCALENDAR
VERSION:2.0
PRODID:spatie/icalendar-generator
NAME:Surgent's Adapting to OBBBA Changes: A Strategic Review
X-WR-CALNAME:Surgent's Adapting to OBBBA Changes: A Strategic Review
BEGIN:VTIMEZONE
TZID:America/Chicago
BEGIN:DAYLIGHT
DTSTART:20260308T010000
TZOFFSETFROM:-0600
TZOFFSETTO:-0500
END:DAYLIGHT
BEGIN:STANDARD
DTSTART:20261101T010000
TZOFFSETFROM:-0500
TZOFFSETTO:-0600
END:STANDARD
END:VTIMEZONE
BEGIN:VTIMEZONE
TZID:UTC
BEGIN:STANDARD
DTSTART:20250726T185558
TZOFFSETFROM:+0000
TZOFFSETTO:+0000
END:STANDARD
END:VTIMEZONE
BEGIN:VEVENT
UID:69e919be1f547
DTSTAMP:20260422T185558Z
SUMMARY:Surgent's Adapting to OBBBA Changes: A Strategic Review
URL:https://alabama.cpa/catalog/events/7719992-surgents-adapting-to-obbba-c
 hanges-a-strategic-review-2026-10-08
DTSTART;TZID=America/Chicago:20260810T130000
DTEND;TZID=America/Chicago:20260810T150000
END:VEVENT
END:VCALENDAR