BEGIN:VCALENDAR
VERSION:2.0
PRODID:spatie/icalendar-generator
NAME:Surgent's Assessing the Risk of Fraud in a Financial Statement Audit
X-WR-CALNAME:Surgent's Assessing the Risk of Fraud in a Financial Statement
  Audit
BEGIN:VTIMEZONE
TZID:America/Chicago
BEGIN:DAYLIGHT
DTSTART:20260308T010000
TZOFFSETFROM:-0600
TZOFFSETTO:-0500
END:DAYLIGHT
BEGIN:STANDARD
DTSTART:20261101T010000
TZOFFSETFROM:-0500
TZOFFSETTO:-0600
END:STANDARD
END:VTIMEZONE
BEGIN:VTIMEZONE
TZID:UTC
BEGIN:STANDARD
DTSTART:20250726T185109
TZOFFSETFROM:+0000
TZOFFSETTO:+0000
END:STANDARD
END:VTIMEZONE
BEGIN:VEVENT
UID:69e9189d320c7
DTSTAMP:20260422T185109Z
SUMMARY:Surgent's Assessing the Risk of Fraud in a Financial Statement Audi
 t
URL:https://alabama.cpa/catalog/events/7720007-surgents-assessing-the-risk-
 of-fraud-in-a-financial-statement-audit-2026-10-08
DTSTART;TZID=America/Chicago:20260810T080000
DTEND;TZID=America/Chicago:20260810T160000
END:VEVENT
END:VCALENDAR