BEGIN:VCALENDAR
VERSION:2.0
PRODID:spatie/icalendar-generator
NAME:Surgent’s Weekly Expert Hour
X-WR-CALNAME:Surgent’s Weekly Expert Hour
BEGIN:VTIMEZONE
TZID:America/Chicago
BEGIN:STANDARD
DTSTART:20261101T010000
TZOFFSETFROM:-0500
TZOFFSETTO:-0600
END:STANDARD
BEGIN:DAYLIGHT
DTSTART:20270314T010000
TZOFFSETFROM:-0600
TZOFFSETTO:-0500
END:DAYLIGHT
END:VTIMEZONE
BEGIN:VTIMEZONE
TZID:UTC
BEGIN:STANDARD
DTSTART:20250726T185304
TZOFFSETFROM:+0000
TZOFFSETTO:+0000
END:STANDARD
END:VTIMEZONE
BEGIN:VEVENT
UID:69e91910aef78
DTSTAMP:20260422T185304Z
SUMMARY:Surgent’s Weekly Expert Hour
URL:https://alabama.cpa/catalog/events/7720009-surgents-weekly-expert-hour-
 2027-14-01
DTSTART;TZID=America/Chicago:20270114T130000
DTEND;TZID=America/Chicago:20270114T140000
END:VEVENT
END:VCALENDAR