BEGIN:VCALENDAR
VERSION:2.0
PRODID:spatie/icalendar-generator
NAME:Surgent's Going Out on Your Own: Entity Types and Accounting Methods
X-WR-CALNAME:Surgent's Going Out on Your Own: Entity Types and Accounting M
 ethods
BEGIN:VTIMEZONE
TZID:America/Chicago
BEGIN:DAYLIGHT
DTSTART:20260308T010000
TZOFFSETFROM:-0600
TZOFFSETTO:-0500
END:DAYLIGHT
BEGIN:STANDARD
DTSTART:20261101T010000
TZOFFSETFROM:-0500
TZOFFSETTO:-0600
END:STANDARD
BEGIN:DAYLIGHT
DTSTART:20270314T010000
TZOFFSETFROM:-0600
TZOFFSETTO:-0500
END:DAYLIGHT
END:VTIMEZONE
BEGIN:VTIMEZONE
TZID:UTC
BEGIN:STANDARD
DTSTART:20250726T185739
TZOFFSETFROM:+0000
TZOFFSETTO:+0000
END:STANDARD
END:VTIMEZONE
BEGIN:VEVENT
UID:69e91a23c2eb2
DTSTAMP:20260422T185739Z
SUMMARY:Surgent's Going Out on Your Own: Entity Types and Accounting Method
 s
URL:https://alabama.cpa/catalog/events/7720048-surgents-going-out-on-your-o
 wn-entity-types-and-accounting-methods-2026-04-11
DTSTART;TZID=America/Chicago:20261104T120000
DTEND;TZID=America/Chicago:20261104T140000
END:VEVENT
END:VCALENDAR