BEGIN:VCALENDAR
VERSION:2.0
PRODID:spatie/icalendar-generator
NAME:Surgent's Foundations of Cybersecurity for Financial Professionals
X-WR-CALNAME:Surgent's Foundations of Cybersecurity for Financial Professio
 nals
BEGIN:VTIMEZONE
TZID:America/Chicago
BEGIN:DAYLIGHT
DTSTART:20260308T010000
TZOFFSETFROM:-0600
TZOFFSETTO:-0500
END:DAYLIGHT
BEGIN:STANDARD
DTSTART:20261101T010000
TZOFFSETFROM:-0500
TZOFFSETTO:-0600
END:STANDARD
END:VTIMEZONE
BEGIN:VTIMEZONE
TZID:UTC
BEGIN:STANDARD
DTSTART:20250726T185813
TZOFFSETFROM:+0000
TZOFFSETTO:+0000
END:STANDARD
END:VTIMEZONE
BEGIN:VEVENT
UID:69e91a4575070
DTSTAMP:20260422T185813Z
SUMMARY:Surgent's Foundations of Cybersecurity for Financial Professionals
URL:https://alabama.cpa/catalog/events/7720052-surgents-foundations-of-cybe
 rsecurity-for-financial-professionals-2026-10-08
DTSTART;TZID=America/Chicago:20260810T130000
DTEND;TZID=America/Chicago:20260810T150000
END:VEVENT
END:VCALENDAR