BEGIN:VCALENDAR
VERSION:2.0
PRODID:spatie/icalendar-generator
NAME:Surgent's Introduction to AI in Accounting
X-WR-CALNAME:Surgent's Introduction to AI in Accounting
BEGIN:VTIMEZONE
TZID:America/Chicago
BEGIN:DAYLIGHT
DTSTART:20260308T010000
TZOFFSETFROM:-0600
TZOFFSETTO:-0500
END:DAYLIGHT
BEGIN:STANDARD
DTSTART:20261101T010000
TZOFFSETFROM:-0500
TZOFFSETTO:-0600
END:STANDARD
BEGIN:DAYLIGHT
DTSTART:20270314T010000
TZOFFSETFROM:-0600
TZOFFSETTO:-0500
END:DAYLIGHT
END:VTIMEZONE
BEGIN:VTIMEZONE
TZID:UTC
BEGIN:STANDARD
DTSTART:20250726T185859
TZOFFSETFROM:+0000
TZOFFSETTO:+0000
END:STANDARD
END:VTIMEZONE
BEGIN:VEVENT
UID:69e91a73c611b
DTSTAMP:20260422T185859Z
SUMMARY:Surgent's Introduction to AI in Accounting
URL:https://alabama.cpa/catalog/events/7720075-surgents-introduction-to-ai-
 in-accounting-2026-05-11
DTSTART;TZID=America/Chicago:20261105T130000
DTEND;TZID=America/Chicago:20261105T150000
END:VEVENT
END:VCALENDAR