BEGIN:VCALENDAR
VERSION:2.0
PRODID:spatie/icalendar-generator
NAME:The Best Federal Tax Update Course by Surgent
X-WR-CALNAME:The Best Federal Tax Update Course by Surgent
BEGIN:VTIMEZONE
TZID:America/Chicago
BEGIN:DAYLIGHT
DTSTART:20260308T010000
TZOFFSETFROM:-0600
TZOFFSETTO:-0500
END:DAYLIGHT
BEGIN:STANDARD
DTSTART:20261101T010000
TZOFFSETFROM:-0500
TZOFFSETTO:-0600
END:STANDARD
BEGIN:DAYLIGHT
DTSTART:20270314T010000
TZOFFSETFROM:-0600
TZOFFSETTO:-0500
END:DAYLIGHT
END:VTIMEZONE
BEGIN:VTIMEZONE
TZID:UTC
BEGIN:STANDARD
DTSTART:20250726T185558
TZOFFSETFROM:+0000
TZOFFSETTO:+0000
END:STANDARD
END:VTIMEZONE
BEGIN:VEVENT
UID:69e919be36811
DTSTAMP:20260422T185558Z
SUMMARY:The Best Federal Tax Update Course by Surgent
URL:https://alabama.cpa/catalog/events/7720080-the-best-federal-tax-update-
 course-by-surgent-2026-05-11
DTSTART;TZID=America/Chicago:20261105T103000
DTEND;TZID=America/Chicago:20261105T183000
END:VEVENT
END:VCALENDAR