BEGIN:VCALENDAR
VERSION:2.0
PRODID:spatie/icalendar-generator
NAME:Surgent's Adapting to Today’s Changing Accounting Landscape
X-WR-CALNAME:Surgent's Adapting to Today’s Changing Accounting Landscape
BEGIN:VTIMEZONE
TZID:America/Chicago
BEGIN:DAYLIGHT
DTSTART:20260308T010000
TZOFFSETFROM:-0600
TZOFFSETTO:-0500
END:DAYLIGHT
BEGIN:STANDARD
DTSTART:20261101T010000
TZOFFSETFROM:-0500
TZOFFSETTO:-0600
END:STANDARD
BEGIN:DAYLIGHT
DTSTART:20270314T010000
TZOFFSETFROM:-0600
TZOFFSETTO:-0500
END:DAYLIGHT
END:VTIMEZONE
BEGIN:VTIMEZONE
TZID:UTC
BEGIN:STANDARD
DTSTART:20250726T185757
TZOFFSETFROM:+0000
TZOFFSETTO:+0000
END:STANDARD
END:VTIMEZONE
BEGIN:VEVENT
UID:69e91a35a910d
DTSTAMP:20260422T185757Z
SUMMARY:Surgent's Adapting to Today’s Changing Accounting Landscape
URL:https://alabama.cpa/catalog/events/7720081-surgents-adapting-to-todays-
 changing-accounting-landscape-2026-05-11
DTSTART;TZID=America/Chicago:20261105T110000
DTEND;TZID=America/Chicago:20261105T120000
END:VEVENT
END:VCALENDAR