BEGIN:VCALENDAR
VERSION:2.0
PRODID:spatie/icalendar-generator
NAME:Surgent's Preparation and Compilation Engagements Under the SSARS
X-WR-CALNAME:Surgent's Preparation and Compilation Engagements Under the SS
 ARS
BEGIN:VTIMEZONE
TZID:America/Chicago
BEGIN:DAYLIGHT
DTSTART:20260308T010000
TZOFFSETFROM:-0600
TZOFFSETTO:-0500
END:DAYLIGHT
BEGIN:STANDARD
DTSTART:20261101T010000
TZOFFSETFROM:-0500
TZOFFSETTO:-0600
END:STANDARD
END:VTIMEZONE
BEGIN:VTIMEZONE
TZID:UTC
BEGIN:STANDARD
DTSTART:20250726T185235
TZOFFSETFROM:+0000
TZOFFSETTO:+0000
END:STANDARD
END:VTIMEZONE
BEGIN:VEVENT
UID:69e918f3a1b49
DTSTAMP:20260422T185235Z
SUMMARY:Surgent's Preparation and Compilation Engagements Under the SSARS
URL:https://alabama.cpa/catalog/events/7720085-surgents-preparation-and-com
 pilation-engagements-under-the-ssars-2026-10-08
DTSTART;TZID=America/Chicago:20260810T080000
DTEND;TZID=America/Chicago:20260810T120000
END:VEVENT
END:VCALENDAR