BEGIN:VCALENDAR
VERSION:2.0
PRODID:spatie/icalendar-generator
NAME:Surgent's Avoiding Deficiencies in Peer Reviews: Focus on Engagement Q
 uality
X-WR-CALNAME:Surgent's Avoiding Deficiencies in Peer Reviews: Focus on Enga
 gement Quality
BEGIN:VTIMEZONE
TZID:America/Chicago
BEGIN:STANDARD
DTSTART:20261101T010000
TZOFFSETFROM:-0500
TZOFFSETTO:-0600
END:STANDARD
BEGIN:DAYLIGHT
DTSTART:20270314T010000
TZOFFSETFROM:-0600
TZOFFSETTO:-0500
END:DAYLIGHT
END:VTIMEZONE
BEGIN:VTIMEZONE
TZID:UTC
BEGIN:STANDARD
DTSTART:20250726T185120
TZOFFSETFROM:+0000
TZOFFSETTO:+0000
END:STANDARD
END:VTIMEZONE
BEGIN:VEVENT
UID:69e918a818b0e
DTSTAMP:20260422T185120Z
SUMMARY:Surgent's Avoiding Deficiencies in Peer Reviews: Focus on Engagemen
 t Quality
URL:https://alabama.cpa/catalog/events/7720087-surgents-avoiding-deficienci
 es-in-peer-reviews-focus-on-engagement-quality-2027-15-01
DTSTART;TZID=America/Chicago:20270115T120000
DTEND;TZID=America/Chicago:20270115T160000
END:VEVENT
END:VCALENDAR