BEGIN:VCALENDAR
VERSION:2.0
PRODID:spatie/icalendar-generator
NAME:Surgent's Making Sense of Essential OBBBA Provisions
X-WR-CALNAME:Surgent's Making Sense of Essential OBBBA Provisions
BEGIN:VTIMEZONE
TZID:America/Chicago
BEGIN:STANDARD
DTSTART:20261101T010000
TZOFFSETFROM:-0500
TZOFFSETTO:-0600
END:STANDARD
BEGIN:DAYLIGHT
DTSTART:20270314T010000
TZOFFSETFROM:-0600
TZOFFSETTO:-0500
END:DAYLIGHT
END:VTIMEZONE
BEGIN:VTIMEZONE
TZID:UTC
BEGIN:STANDARD
DTSTART:20250726T185511
TZOFFSETFROM:+0000
TZOFFSETTO:+0000
END:STANDARD
END:VTIMEZONE
BEGIN:VEVENT
UID:69e9198f0919f
DTSTAMP:20260422T185511Z
SUMMARY:Surgent's Making Sense of Essential OBBBA Provisions
URL:https://alabama.cpa/catalog/events/7720091-surgents-making-sense-of-ess
 ential-obbba-provisions-2027-15-01
DTSTART;TZID=America/Chicago:20270115T120000
DTEND;TZID=America/Chicago:20270115T140000
END:VEVENT
END:VCALENDAR