BEGIN:VCALENDAR
VERSION:2.0
PRODID:spatie/icalendar-generator
NAME:Surgent's Understanding Partnership Taxation: Debt Allocations
X-WR-CALNAME:Surgent's Understanding Partnership Taxation: Debt Allocations
BEGIN:VTIMEZONE
TZID:America/Chicago
BEGIN:DAYLIGHT
DTSTART:20260308T010000
TZOFFSETFROM:-0600
TZOFFSETTO:-0500
END:DAYLIGHT
BEGIN:STANDARD
DTSTART:20261101T010000
TZOFFSETFROM:-0500
TZOFFSETTO:-0600
END:STANDARD
END:VTIMEZONE
BEGIN:VTIMEZONE
TZID:UTC
BEGIN:STANDARD
DTSTART:20250726T185422
TZOFFSETFROM:+0000
TZOFFSETTO:+0000
END:STANDARD
END:VTIMEZONE
BEGIN:VEVENT
UID:69e9195ea4cab
DTSTAMP:20260422T185422Z
SUMMARY:Surgent's Understanding Partnership Taxation: Debt Allocations
URL:https://alabama.cpa/catalog/events/7720092-surgents-understanding-partn
 ership-taxation-debt-allocations-2026-10-08
DTSTART;TZID=America/Chicago:20260810T120000
DTEND;TZID=America/Chicago:20260810T140000
END:VEVENT
END:VCALENDAR