BEGIN:VCALENDAR
VERSION:2.0
PRODID:spatie/icalendar-generator
NAME:Surgent's Applying ASC 820: The Basics of Fair Value Accounting
X-WR-CALNAME:Surgent's Applying ASC 820: The Basics of Fair Value Accountin
 g
BEGIN:VTIMEZONE
TZID:America/Chicago
BEGIN:DAYLIGHT
DTSTART:20260308T010000
TZOFFSETFROM:-0600
TZOFFSETTO:-0500
END:DAYLIGHT
BEGIN:STANDARD
DTSTART:20261101T010000
TZOFFSETFROM:-0500
TZOFFSETTO:-0600
END:STANDARD
BEGIN:DAYLIGHT
DTSTART:20270314T010000
TZOFFSETFROM:-0600
TZOFFSETTO:-0500
END:DAYLIGHT
END:VTIMEZONE
BEGIN:VTIMEZONE
TZID:UTC
BEGIN:STANDARD
DTSTART:20250726T185811
TZOFFSETFROM:+0000
TZOFFSETTO:+0000
END:STANDARD
END:VTIMEZONE
BEGIN:VEVENT
UID:69e91a439b0f4
DTSTAMP:20260422T185811Z
SUMMARY:Surgent's Applying ASC 820: The Basics of Fair Value Accounting
URL:https://alabama.cpa/catalog/events/7720103-surgents-applying-asc-820-th
 e-basics-of-fair-value-accounting-2026-05-11
DTSTART;TZID=America/Chicago:20261105T080000
DTEND;TZID=America/Chicago:20261105T120000
END:VEVENT
END:VCALENDAR