BEGIN:VCALENDAR
VERSION:2.0
PRODID:spatie/icalendar-generator
NAME:Surgent's Taking Advantage of Like-Kind Exchanges
X-WR-CALNAME:Surgent's Taking Advantage of Like-Kind Exchanges
BEGIN:VTIMEZONE
TZID:America/Chicago
BEGIN:STANDARD
DTSTART:20261101T010000
TZOFFSETFROM:-0500
TZOFFSETTO:-0600
END:STANDARD
BEGIN:DAYLIGHT
DTSTART:20270314T010000
TZOFFSETFROM:-0600
TZOFFSETTO:-0500
END:DAYLIGHT
END:VTIMEZONE
BEGIN:VTIMEZONE
TZID:UTC
BEGIN:STANDARD
DTSTART:20250726T185642
TZOFFSETFROM:+0000
TZOFFSETTO:+0000
END:STANDARD
END:VTIMEZONE
BEGIN:VEVENT
UID:69e919ea61e5b
DTSTAMP:20260422T185642Z
SUMMARY:Surgent's Taking Advantage of Like-Kind Exchanges
URL:https://alabama.cpa/catalog/events/7720122-surgents-taking-advantage-of
 -like-kind-exchanges-2027-15-01
DTSTART;TZID=America/Chicago:20270115T140000
DTEND;TZID=America/Chicago:20270115T160000
END:VEVENT
END:VCALENDAR