BEGIN:VCALENDAR
VERSION:2.0
PRODID:spatie/icalendar-generator
NAME:Surgent's Tax and Advisory with Agentic AI
X-WR-CALNAME:Surgent's Tax and Advisory with Agentic AI
BEGIN:VTIMEZONE
TZID:America/Chicago
BEGIN:STANDARD
DTSTART:20261101T010000
TZOFFSETFROM:-0500
TZOFFSETTO:-0600
END:STANDARD
BEGIN:DAYLIGHT
DTSTART:20270314T010000
TZOFFSETFROM:-0600
TZOFFSETTO:-0500
END:DAYLIGHT
END:VTIMEZONE
BEGIN:VTIMEZONE
TZID:UTC
BEGIN:STANDARD
DTSTART:20250726T185229
TZOFFSETFROM:+0000
TZOFFSETTO:+0000
END:STANDARD
END:VTIMEZONE
BEGIN:VEVENT
UID:69e918ed06e79
DTSTAMP:20260422T185229Z
SUMMARY:Surgent's Tax and Advisory with Agentic AI
URL:https://alabama.cpa/catalog/events/7720123-surgents-tax-and-advisory-wi
 th-agentic-ai-2027-15-01
DTSTART;TZID=America/Chicago:20270115T080000
DTEND;TZID=America/Chicago:20270115T100000
END:VEVENT
END:VCALENDAR