BEGIN:VCALENDAR
VERSION:2.0
PRODID:spatie/icalendar-generator
NAME:Surgent's Annual Tax-Planning Guide for S Corporations\, Partnerships\
 , and LLCs
X-WR-CALNAME:Surgent's Annual Tax-Planning Guide for S Corporations\, Partn
 erships\, and LLCs
BEGIN:VTIMEZONE
TZID:America/Chicago
BEGIN:DAYLIGHT
DTSTART:20260308T010000
TZOFFSETFROM:-0600
TZOFFSETTO:-0500
END:DAYLIGHT
BEGIN:STANDARD
DTSTART:20261101T010000
TZOFFSETFROM:-0500
TZOFFSETTO:-0600
END:STANDARD
END:VTIMEZONE
BEGIN:VTIMEZONE
TZID:UTC
BEGIN:STANDARD
DTSTART:20250726T185811
TZOFFSETFROM:+0000
TZOFFSETTO:+0000
END:STANDARD
END:VTIMEZONE
BEGIN:VEVENT
UID:69e91a4360570
DTSTAMP:20260422T185811Z
SUMMARY:Surgent's Annual Tax-Planning Guide for S Corporations\, Partnershi
 ps\, and LLCs
URL:https://alabama.cpa/catalog/events/7720124-surgents-annual-tax-planning
 -guide-for-s-corporations-partnerships-and-llcs-2026-10-08
DTSTART;TZID=America/Chicago:20260810T080000
DTEND;TZID=America/Chicago:20260810T160000
END:VEVENT
END:VCALENDAR