BEGIN:VCALENDAR
VERSION:2.0
PRODID:spatie/icalendar-generator
NAME:Surgent's Section 199A: Schedule K-1 Reporting by Relevant Pass-Throug
 h Entities
X-WR-CALNAME:Surgent's Section 199A: Schedule K-1 Reporting by Relevant Pas
 s-Through Entities
BEGIN:VTIMEZONE
TZID:America/Chicago
BEGIN:DAYLIGHT
DTSTART:20260308T010000
TZOFFSETFROM:-0600
TZOFFSETTO:-0500
END:DAYLIGHT
BEGIN:STANDARD
DTSTART:20261101T010000
TZOFFSETFROM:-0500
TZOFFSETTO:-0600
END:STANDARD
BEGIN:DAYLIGHT
DTSTART:20270314T010000
TZOFFSETFROM:-0600
TZOFFSETTO:-0500
END:DAYLIGHT
END:VTIMEZONE
BEGIN:VTIMEZONE
TZID:UTC
BEGIN:STANDARD
DTSTART:20250726T185812
TZOFFSETFROM:+0000
TZOFFSETTO:+0000
END:STANDARD
END:VTIMEZONE
BEGIN:VEVENT
UID:69e91a4448407
DTSTAMP:20260422T185812Z
SUMMARY:Surgent's Section 199A: Schedule K-1 Reporting by Relevant Pass-Thr
 ough Entities
URL:https://alabama.cpa/catalog/events/7720134-surgents-section-199a-schedu
 le-k-1-reporting-by-relevant-pass-through-entities-2026-05-11
DTSTART;TZID=America/Chicago:20261105T080000
DTEND;TZID=America/Chicago:20261105T120000
END:VEVENT
END:VCALENDAR