BEGIN:VCALENDAR
VERSION:2.0
PRODID:spatie/icalendar-generator
NAME:Surgent's Taxation of Tips and Overtime Under OBBBA
X-WR-CALNAME:Surgent's Taxation of Tips and Overtime Under OBBBA
BEGIN:VTIMEZONE
TZID:America/Chicago
BEGIN:DAYLIGHT
DTSTART:20260308T010000
TZOFFSETFROM:-0600
TZOFFSETTO:-0500
END:DAYLIGHT
BEGIN:STANDARD
DTSTART:20261101T010000
TZOFFSETFROM:-0500
TZOFFSETTO:-0600
END:STANDARD
END:VTIMEZONE
BEGIN:VTIMEZONE
TZID:UTC
BEGIN:STANDARD
DTSTART:20250726T185628
TZOFFSETFROM:+0000
TZOFFSETTO:+0000
END:STANDARD
END:VTIMEZONE
BEGIN:VEVENT
UID:69e919dc8af23
DTSTAMP:20260422T185628Z
SUMMARY:Surgent's Taxation of Tips and Overtime Under OBBBA
URL:https://alabama.cpa/catalog/events/7720140-surgents-taxation-of-tips-an
 d-overtime-under-obbba-2026-10-08
DTSTART;TZID=America/Chicago:20260810T090000
DTEND;TZID=America/Chicago:20260810T110000
END:VEVENT
END:VCALENDAR