BEGIN:VCALENDAR
VERSION:2.0
PRODID:spatie/icalendar-generator
NAME:Surgent's Current Issues in Accounting and Auditing: An Annual Update
X-WR-CALNAME:Surgent's Current Issues in Accounting and Auditing: An Annual
  Update
BEGIN:VTIMEZONE
TZID:America/Chicago
BEGIN:DAYLIGHT
DTSTART:20260308T010000
TZOFFSETFROM:-0600
TZOFFSETTO:-0500
END:DAYLIGHT
BEGIN:STANDARD
DTSTART:20261101T010000
TZOFFSETFROM:-0500
TZOFFSETTO:-0600
END:STANDARD
END:VTIMEZONE
BEGIN:VTIMEZONE
TZID:UTC
BEGIN:STANDARD
DTSTART:20250726T185118
TZOFFSETFROM:+0000
TZOFFSETTO:+0000
END:STANDARD
END:VTIMEZONE
BEGIN:VEVENT
UID:69e918a65ad4a
DTSTAMP:20260422T185118Z
SUMMARY:Surgent's Current Issues in Accounting and Auditing: An Annual Upda
 te
URL:https://alabama.cpa/catalog/events/7720150-surgents-current-issues-in-a
 ccounting-and-auditing-an-annual-update-2026-11-08
DTSTART;TZID=America/Chicago:20260811T123000
DTEND;TZID=America/Chicago:20260811T163000
END:VEVENT
END:VCALENDAR