BEGIN:VCALENDAR
VERSION:2.0
PRODID:spatie/icalendar-generator
NAME:Surgent's Update on Recent AICPA Standard Setting: Staying Current in 
 a Changing Environment
X-WR-CALNAME:Surgent's Update on Recent AICPA Standard Setting: Staying Cur
 rent in a Changing Environment
BEGIN:VTIMEZONE
TZID:America/Chicago
BEGIN:DAYLIGHT
DTSTART:20260308T010000
TZOFFSETFROM:-0600
TZOFFSETTO:-0500
END:DAYLIGHT
BEGIN:STANDARD
DTSTART:20261101T010000
TZOFFSETFROM:-0500
TZOFFSETTO:-0600
END:STANDARD
BEGIN:DAYLIGHT
DTSTART:20270314T010000
TZOFFSETFROM:-0600
TZOFFSETTO:-0500
END:DAYLIGHT
END:VTIMEZONE
BEGIN:VTIMEZONE
TZID:UTC
BEGIN:STANDARD
DTSTART:20250726T185233
TZOFFSETFROM:+0000
TZOFFSETTO:+0000
END:STANDARD
END:VTIMEZONE
BEGIN:VEVENT
UID:69e918f180729
DTSTAMP:20260422T185233Z
SUMMARY:Surgent's Update on Recent AICPA Standard Setting: Staying Current 
 in a Changing Environment
URL:https://alabama.cpa/catalog/events/7720153-surgents-update-on-recent-ai
 cpa-standard-setting-staying-current-in-a-changing-environment-2026-05-11
DTSTART;TZID=America/Chicago:20261105T133000
DTEND;TZID=America/Chicago:20261105T173000
END:VEVENT
END:VCALENDAR