BEGIN:VCALENDAR
VERSION:2.0
PRODID:spatie/icalendar-generator
NAME:Surgent's A Guide to Nonqualified Deferred Compensation
X-WR-CALNAME:Surgent's A Guide to Nonqualified Deferred Compensation
BEGIN:VTIMEZONE
TZID:America/Chicago
BEGIN:DAYLIGHT
DTSTART:20260308T010000
TZOFFSETFROM:-0600
TZOFFSETTO:-0500
END:DAYLIGHT
BEGIN:STANDARD
DTSTART:20261101T010000
TZOFFSETFROM:-0500
TZOFFSETTO:-0600
END:STANDARD
END:VTIMEZONE
BEGIN:VTIMEZONE
TZID:UTC
BEGIN:STANDARD
DTSTART:20250726T185706
TZOFFSETFROM:+0000
TZOFFSETTO:+0000
END:STANDARD
END:VTIMEZONE
BEGIN:VEVENT
UID:69e91a0230183
DTSTAMP:20260422T185706Z
SUMMARY:Surgent's A Guide to Nonqualified Deferred Compensation
URL:https://alabama.cpa/catalog/events/7720224-surgents-a-guide-to-nonquali
 fied-deferred-compensation-2026-11-08
DTSTART;TZID=America/Chicago:20260811T090000
DTEND;TZID=America/Chicago:20260811T110000
END:VEVENT
END:VCALENDAR