BEGIN:VCALENDAR
VERSION:2.0
PRODID:spatie/icalendar-generator
NAME:Surgent's Required Minimum Distributions: Compliance and Planning
X-WR-CALNAME:Surgent's Required Minimum Distributions: Compliance and Plann
 ing
BEGIN:VTIMEZONE
TZID:America/Chicago
BEGIN:DAYLIGHT
DTSTART:20260308T010000
TZOFFSETFROM:-0600
TZOFFSETTO:-0500
END:DAYLIGHT
BEGIN:STANDARD
DTSTART:20261101T010000
TZOFFSETFROM:-0500
TZOFFSETTO:-0600
END:STANDARD
END:VTIMEZONE
BEGIN:VTIMEZONE
TZID:UTC
BEGIN:STANDARD
DTSTART:20250726T185755
TZOFFSETFROM:+0000
TZOFFSETTO:+0000
END:STANDARD
END:VTIMEZONE
BEGIN:VEVENT
UID:69e91a33438d3
DTSTAMP:20260422T185755Z
SUMMARY:Surgent's Required Minimum Distributions: Compliance and Planning
URL:https://alabama.cpa/catalog/events/7720228-surgents-required-minimum-di
 stributions-compliance-and-planning-2026-11-08
DTSTART;TZID=America/Chicago:20260811T080000
DTEND;TZID=America/Chicago:20260811T120000
END:VEVENT
END:VCALENDAR