BEGIN:VCALENDAR
VERSION:2.0
PRODID:spatie/icalendar-generator
NAME:Surgent's Engagement and Client Retention Best Practices
X-WR-CALNAME:Surgent's Engagement and Client Retention Best Practices
BEGIN:VTIMEZONE
TZID:America/Chicago
BEGIN:DAYLIGHT
DTSTART:20260308T010000
TZOFFSETFROM:-0600
TZOFFSETTO:-0500
END:DAYLIGHT
BEGIN:STANDARD
DTSTART:20261101T010000
TZOFFSETFROM:-0500
TZOFFSETTO:-0600
END:STANDARD
BEGIN:DAYLIGHT
DTSTART:20270314T010000
TZOFFSETFROM:-0600
TZOFFSETTO:-0500
END:DAYLIGHT
END:VTIMEZONE
BEGIN:VTIMEZONE
TZID:UTC
BEGIN:STANDARD
DTSTART:20250726T185402
TZOFFSETFROM:+0000
TZOFFSETTO:+0000
END:STANDARD
END:VTIMEZONE
BEGIN:VEVENT
UID:69e9194a2d637
DTSTAMP:20260422T185402Z
SUMMARY:Surgent's Engagement and Client Retention Best Practices
URL:https://alabama.cpa/catalog/events/7720247-surgents-engagement-and-clie
 nt-retention-best-practices-2026-06-11
DTSTART;TZID=America/Chicago:20261106T130000
DTEND;TZID=America/Chicago:20261106T150000
END:VEVENT
END:VCALENDAR