BEGIN:VCALENDAR
VERSION:2.0
PRODID:spatie/icalendar-generator
NAME:Surgent's Social Security and Medicare: Planning for You and Your Clie
 nts
X-WR-CALNAME:Surgent's Social Security and Medicare: Planning for You and Y
 our Clients
BEGIN:VTIMEZONE
TZID:America/Chicago
BEGIN:STANDARD
DTSTART:20261101T010000
TZOFFSETFROM:-0500
TZOFFSETTO:-0600
END:STANDARD
BEGIN:DAYLIGHT
DTSTART:20270314T010000
TZOFFSETFROM:-0600
TZOFFSETTO:-0500
END:DAYLIGHT
END:VTIMEZONE
BEGIN:VTIMEZONE
TZID:UTC
BEGIN:STANDARD
DTSTART:20250726T185859
TZOFFSETFROM:+0000
TZOFFSETTO:+0000
END:STANDARD
END:VTIMEZONE
BEGIN:VEVENT
UID:69e91a736e85c
DTSTAMP:20260422T185859Z
SUMMARY:Surgent's Social Security and Medicare: Planning for You and Your C
 lients
URL:https://alabama.cpa/catalog/events/7720259-surgents-social-security-and
 -medicare-planning-for-you-and-your-clients-2027-19-01
DTSTART;TZID=America/Chicago:20270119T080000
DTEND;TZID=America/Chicago:20270119T160000
END:VEVENT
END:VCALENDAR