BEGIN:VCALENDAR
VERSION:2.0
PRODID:spatie/icalendar-generator
NAME:Surgent's Ethical Considerations for the CPA
X-WR-CALNAME:Surgent's Ethical Considerations for the CPA
BEGIN:VTIMEZONE
TZID:America/Chicago
BEGIN:DAYLIGHT
DTSTART:20260308T010000
TZOFFSETFROM:-0600
TZOFFSETTO:-0500
END:DAYLIGHT
BEGIN:STANDARD
DTSTART:20261101T010000
TZOFFSETFROM:-0500
TZOFFSETTO:-0600
END:STANDARD
BEGIN:DAYLIGHT
DTSTART:20270314T010000
TZOFFSETFROM:-0600
TZOFFSETTO:-0500
END:DAYLIGHT
END:VTIMEZONE
BEGIN:VTIMEZONE
TZID:UTC
BEGIN:STANDARD
DTSTART:20250726T185602
TZOFFSETFROM:+0000
TZOFFSETTO:+0000
END:STANDARD
END:VTIMEZONE
BEGIN:VEVENT
UID:69e919c2d1154
DTSTAMP:20260422T185602Z
SUMMARY:Surgent's Ethical Considerations for the CPA
URL:https://alabama.cpa/catalog/events/7720265-surgents-ethical-considerati
 ons-for-the-cpa-2026-06-11
DTSTART;TZID=America/Chicago:20261106T080000
DTEND;TZID=America/Chicago:20261106T120000
END:VEVENT
END:VCALENDAR