BEGIN:VCALENDAR
VERSION:2.0
PRODID:spatie/icalendar-generator
NAME:Surgent's Buying and Selling a Business: Tax and Structuring Overview
X-WR-CALNAME:Surgent's Buying and Selling a Business: Tax and Structuring O
 verview
BEGIN:VTIMEZONE
TZID:America/Chicago
BEGIN:DAYLIGHT
DTSTART:20260308T010000
TZOFFSETFROM:-0600
TZOFFSETTO:-0500
END:DAYLIGHT
BEGIN:STANDARD
DTSTART:20261101T010000
TZOFFSETFROM:-0500
TZOFFSETTO:-0600
END:STANDARD
BEGIN:DAYLIGHT
DTSTART:20270314T010000
TZOFFSETFROM:-0600
TZOFFSETTO:-0500
END:DAYLIGHT
END:VTIMEZONE
BEGIN:VTIMEZONE
TZID:UTC
BEGIN:STANDARD
DTSTART:20250726T185843
TZOFFSETFROM:+0000
TZOFFSETTO:+0000
END:STANDARD
END:VTIMEZONE
BEGIN:VEVENT
UID:69e91a6314690
DTSTAMP:20260422T185843Z
SUMMARY:Surgent's Buying and Selling a Business: Tax and Structuring Overvi
 ew
URL:https://alabama.cpa/catalog/events/7720275-surgents-buying-and-selling-
 a-business-tax-and-structuring-overview-2026-06-11
DTSTART;TZID=America/Chicago:20261106T123000
DTEND;TZID=America/Chicago:20261106T163000
END:VEVENT
END:VCALENDAR