BEGIN:VCALENDAR
VERSION:2.0
PRODID:spatie/icalendar-generator
NAME:Surgent's Securing a Comfortable Retirement in the Age of Spending
X-WR-CALNAME:Surgent's Securing a Comfortable Retirement in the Age of Spen
 ding
BEGIN:VTIMEZONE
TZID:America/Chicago
BEGIN:DAYLIGHT
DTSTART:20260308T010000
TZOFFSETFROM:-0600
TZOFFSETTO:-0500
END:DAYLIGHT
BEGIN:STANDARD
DTSTART:20261101T010000
TZOFFSETFROM:-0500
TZOFFSETTO:-0600
END:STANDARD
BEGIN:DAYLIGHT
DTSTART:20270314T010000
TZOFFSETFROM:-0600
TZOFFSETTO:-0500
END:DAYLIGHT
END:VTIMEZONE
BEGIN:VTIMEZONE
TZID:UTC
BEGIN:STANDARD
DTSTART:20250726T185119
TZOFFSETFROM:+0000
TZOFFSETTO:+0000
END:STANDARD
END:VTIMEZONE
BEGIN:VEVENT
UID:69e918a72ffc0
DTSTAMP:20260422T185119Z
SUMMARY:Surgent's Securing a Comfortable Retirement in the Age of Spending
URL:https://alabama.cpa/catalog/events/7720276-surgents-securing-a-comforta
 ble-retirement-in-the-age-of-spending-2026-06-11
DTSTART;TZID=America/Chicago:20261106T080000
DTEND;TZID=America/Chicago:20261106T160000
END:VEVENT
END:VCALENDAR