BEGIN:VCALENDAR
VERSION:2.0
PRODID:spatie/icalendar-generator
NAME:Surgent's Critical Issues Involving Taxation of Construction Contracto
 rs
X-WR-CALNAME:Surgent's Critical Issues Involving Taxation of Construction C
 ontractors
BEGIN:VTIMEZONE
TZID:America/Chicago
BEGIN:DAYLIGHT
DTSTART:20260308T010000
TZOFFSETFROM:-0600
TZOFFSETTO:-0500
END:DAYLIGHT
BEGIN:STANDARD
DTSTART:20261101T010000
TZOFFSETFROM:-0500
TZOFFSETTO:-0600
END:STANDARD
BEGIN:DAYLIGHT
DTSTART:20270314T010000
TZOFFSETFROM:-0600
TZOFFSETTO:-0500
END:DAYLIGHT
END:VTIMEZONE
BEGIN:VTIMEZONE
TZID:UTC
BEGIN:STANDARD
DTSTART:20250726T185740
TZOFFSETFROM:+0000
TZOFFSETTO:+0000
END:STANDARD
END:VTIMEZONE
BEGIN:VEVENT
UID:69e91a2454759
DTSTAMP:20260422T185740Z
SUMMARY:Surgent's Critical Issues Involving Taxation of Construction Contra
 ctors
URL:https://alabama.cpa/catalog/events/7720304-surgents-critical-issues-inv
 olving-taxation-of-construction-contractors-2026-06-11
DTSTART;TZID=America/Chicago:20261106T120000
DTEND;TZID=America/Chicago:20261106T160000
END:VEVENT
END:VCALENDAR