BEGIN:VCALENDAR
VERSION:2.0
PRODID:spatie/icalendar-generator
NAME:Surgent's Business Law for Small Business Owners
X-WR-CALNAME:Surgent's Business Law for Small Business Owners
BEGIN:VTIMEZONE
TZID:America/Chicago
BEGIN:STANDARD
DTSTART:20261101T010000
TZOFFSETFROM:-0500
TZOFFSETTO:-0600
END:STANDARD
BEGIN:DAYLIGHT
DTSTART:20270314T010000
TZOFFSETFROM:-0600
TZOFFSETTO:-0500
END:DAYLIGHT
END:VTIMEZONE
BEGIN:VTIMEZONE
TZID:UTC
BEGIN:STANDARD
DTSTART:20250726T185756
TZOFFSETFROM:+0000
TZOFFSETTO:+0000
END:STANDARD
END:VTIMEZONE
BEGIN:VEVENT
UID:69e91a34be53e
DTSTAMP:20260422T185756Z
SUMMARY:Surgent's Business Law for Small Business Owners
URL:https://alabama.cpa/catalog/events/7720316-surgents-business-law-for-sm
 all-business-owners-2027-20-01
DTSTART;TZID=America/Chicago:20270120T080000
DTEND;TZID=America/Chicago:20270120T120000
END:VEVENT
END:VCALENDAR