BEGIN:VCALENDAR
VERSION:2.0
PRODID:spatie/icalendar-generator
NAME:The Best S Corporation\, Limited Liability\, and Partnership Update Co
 urse by Surgent
X-WR-CALNAME:The Best S Corporation\, Limited Liability\, and Partnership U
 pdate Course by Surgent
BEGIN:VTIMEZONE
TZID:America/Chicago
BEGIN:DAYLIGHT
DTSTART:20260308T010000
TZOFFSETFROM:-0600
TZOFFSETTO:-0500
END:DAYLIGHT
BEGIN:STANDARD
DTSTART:20261101T010000
TZOFFSETFROM:-0500
TZOFFSETTO:-0600
END:STANDARD
BEGIN:DAYLIGHT
DTSTART:20270314T010000
TZOFFSETFROM:-0600
TZOFFSETTO:-0500
END:DAYLIGHT
END:VTIMEZONE
BEGIN:VTIMEZONE
TZID:UTC
BEGIN:STANDARD
DTSTART:20250726T185859
TZOFFSETFROM:+0000
TZOFFSETTO:+0000
END:STANDARD
END:VTIMEZONE
BEGIN:VEVENT
UID:69e91a73b1365
DTSTAMP:20260422T185859Z
SUMMARY:The Best S Corporation\, Limited Liability\, and Partnership Update
  Course by Surgent
URL:https://alabama.cpa/catalog/events/7720319-the-best-s-corporation-limit
 ed-liability-and-partnership-update-course-by-surgent-2026-07-11
DTSTART;TZID=America/Chicago:20261107T080000
DTEND;TZID=America/Chicago:20261107T160000
END:VEVENT
END:VCALENDAR