BEGIN:VCALENDAR
VERSION:2.0
PRODID:spatie/icalendar-generator
NAME:Surgent's Advanced Audits of 401(k) Plans: Best Practices and Current 
 Developments
X-WR-CALNAME:Surgent's Advanced Audits of 401(k) Plans: Best Practices and 
 Current Developments
BEGIN:VTIMEZONE
TZID:America/Chicago
BEGIN:DAYLIGHT
DTSTART:20260308T010000
TZOFFSETFROM:-0600
TZOFFSETTO:-0500
END:DAYLIGHT
BEGIN:STANDARD
DTSTART:20261101T010000
TZOFFSETFROM:-0500
TZOFFSETTO:-0600
END:STANDARD
BEGIN:DAYLIGHT
DTSTART:20270314T010000
TZOFFSETFROM:-0600
TZOFFSETTO:-0500
END:DAYLIGHT
END:VTIMEZONE
BEGIN:VTIMEZONE
TZID:UTC
BEGIN:STANDARD
DTSTART:20250726T185511
TZOFFSETFROM:+0000
TZOFFSETTO:+0000
END:STANDARD
END:VTIMEZONE
BEGIN:VEVENT
UID:69e9198fa4dec
DTSTAMP:20260422T185511Z
SUMMARY:Surgent's Advanced Audits of 401(k) Plans: Best Practices and Curre
 nt Developments
URL:https://alabama.cpa/catalog/events/7720338-surgents-advanced-audits-of-
 401k-plans-best-practices-and-current-developments-2026-09-11
DTSTART;TZID=America/Chicago:20261109T080000
DTEND;TZID=America/Chicago:20261109T160000
END:VEVENT
END:VCALENDAR