BEGIN:VCALENDAR
VERSION:2.0
PRODID:spatie/icalendar-generator
NAME:Surgent's Key Partnership and S Corporation Tax Planning Strategies
X-WR-CALNAME:Surgent's Key Partnership and S Corporation Tax Planning Strat
 egies
BEGIN:VTIMEZONE
TZID:America/Chicago
BEGIN:DAYLIGHT
DTSTART:20260308T010000
TZOFFSETFROM:-0600
TZOFFSETTO:-0500
END:DAYLIGHT
BEGIN:STANDARD
DTSTART:20261101T010000
TZOFFSETFROM:-0500
TZOFFSETTO:-0600
END:STANDARD
BEGIN:DAYLIGHT
DTSTART:20270314T010000
TZOFFSETFROM:-0600
TZOFFSETTO:-0500
END:DAYLIGHT
END:VTIMEZONE
BEGIN:VTIMEZONE
TZID:UTC
BEGIN:STANDARD
DTSTART:20250726T185629
TZOFFSETFROM:+0000
TZOFFSETTO:+0000
END:STANDARD
END:VTIMEZONE
BEGIN:VEVENT
UID:69e919ddb7d23
DTSTAMP:20260422T185629Z
SUMMARY:Surgent's Key Partnership and S Corporation Tax Planning Strategies
URL:https://alabama.cpa/catalog/events/7720344-surgents-key-partnership-and
 -s-corporation-tax-planning-strategies-2026-09-11
DTSTART;TZID=America/Chicago:20261109T133000
DTEND;TZID=America/Chicago:20261109T173000
END:VEVENT
END:VCALENDAR