BEGIN:VCALENDAR
VERSION:2.0
PRODID:spatie/icalendar-generator
NAME:Surgent's Form 1040 Return Review Boot Camp for New and Experienced Re
 viewers
X-WR-CALNAME:Surgent's Form 1040 Return Review Boot Camp for New and Experi
 enced Reviewers
BEGIN:VTIMEZONE
TZID:America/Chicago
BEGIN:DAYLIGHT
DTSTART:20260308T010000
TZOFFSETFROM:-0600
TZOFFSETTO:-0500
END:DAYLIGHT
BEGIN:STANDARD
DTSTART:20261101T010000
TZOFFSETFROM:-0500
TZOFFSETTO:-0600
END:STANDARD
BEGIN:DAYLIGHT
DTSTART:20270314T010000
TZOFFSETFROM:-0600
TZOFFSETTO:-0500
END:DAYLIGHT
END:VTIMEZONE
BEGIN:VTIMEZONE
TZID:UTC
BEGIN:STANDARD
DTSTART:20250726T185811
TZOFFSETFROM:+0000
TZOFFSETTO:+0000
END:STANDARD
END:VTIMEZONE
BEGIN:VEVENT
UID:69e91a435f3eb
DTSTAMP:20260422T185811Z
SUMMARY:Surgent's Form 1040 Return Review Boot Camp for New and Experienced
  Reviewers
URL:https://alabama.cpa/catalog/events/7720356-surgents-form-1040-return-re
 view-boot-camp-for-new-and-experienced-reviewers-2026-09-11
DTSTART;TZID=America/Chicago:20261109T080000
DTEND;TZID=America/Chicago:20261109T160000
END:VEVENT
END:VCALENDAR